BEGIN:VCALENDAR
VERSION:2.0
PRODID:-//New Mexico Food Trucks - ECPv6.15.20//NONSGML v1.0//EN
CALSCALE:GREGORIAN
METHOD:PUBLISH
X-WR-CALNAME:New Mexico Food Trucks
X-ORIGINAL-URL:https://new-mexico-food-trucks.com
X-WR-CALDESC:Events for New Mexico Food Trucks
REFRESH-INTERVAL;VALUE=DURATION:PT1H
X-Robots-Tag:noindex
X-PUBLISHED-TTL:PT1H
BEGIN:VTIMEZONE
TZID:America/Denver
BEGIN:DAYLIGHT
TZOFFSETFROM:-0700
TZOFFSETTO:-0600
TZNAME:MDT
DTSTART:20250309T090000
END:DAYLIGHT
BEGIN:STANDARD
TZOFFSETFROM:-0600
TZOFFSETTO:-0700
TZNAME:MST
DTSTART:20251102T080000
END:STANDARD
BEGIN:DAYLIGHT
TZOFFSETFROM:-0700
TZOFFSETTO:-0600
TZNAME:MDT
DTSTART:20260308T090000
END:DAYLIGHT
BEGIN:STANDARD
TZOFFSETFROM:-0600
TZOFFSETTO:-0700
TZNAME:MST
DTSTART:20261101T080000
END:STANDARD
BEGIN:DAYLIGHT
TZOFFSETFROM:-0700
TZOFFSETTO:-0600
TZNAME:MDT
DTSTART:20270314T090000
END:DAYLIGHT
BEGIN:STANDARD
TZOFFSETFROM:-0600
TZOFFSETTO:-0700
TZNAME:MST
DTSTART:20271107T080000
END:STANDARD
END:VTIMEZONE
BEGIN:VEVENT
DTSTART;VALUE=DATE:20260820
DTEND;VALUE=DATE:20260824
DTSTAMP:20260419T063008
CREATED:20260417T231750Z
LAST-MODIFIED:20260417T231750Z
UID:319675-1787184000-1787529599@new-mexico-food-trucks.com
SUMMARY:47th Annual Great American Duck Races
DESCRIPTION:VENDORS WANTED \n\nBe part of the 47th Annual Great American Duck Races in Deming\, New Mexico.\nThis is your opportunity to showcase your products\, food\, or services to a crowd ready to shop\, eat\, and enjoy the weekend.\nEvent is August 20–23\, 2026\nDeadline to apply: August 2\, 2026\nSpots are limited. Secure your booth today.\nApply now: www.demingduckrace.com click ‘become a vendor’
URL:https://new-mexico-food-trucks.com/event/47th-annual-great-american-duck-races/
ATTACH;FMTTYPE=image/png:https://new-mexico-food-trucks.com/wp-content/uploads/2026/04/American-Duck-Races.png
END:VEVENT
END:VCALENDAR